BEGIN:VCALENDAR
VERSION:2.0
PRODID:-//ChamberMaster//Event Calendar 2.0//EN
METHOD:PUBLISH
X-PUBLISHED-TTL:P3D
REFRESH-INTERVAL:P3D
CALSCALE:GREGORIAN
BEGIN:VEVENT
DTSTART:20181012T180000Z
DTEND:20181012T190000Z
X-MICROSOFT-CDO-ALLDAYEVENT:FALSE
SUMMARY:Ribbon Cutting Pokerito
DESCRIPTION:
X-ALT-DESC;FMTTYPE=text/html:
LOCATION:22388 Avenue 152\, Unit #B
UID:e.2225.1816
SEQUENCE:3
DTSTAMP:20260422T021023Z
URL:https://business.portervillechamber.org/events/details/ribbon-cutting-pokerito-1816
END:VEVENT

END:VCALENDAR
