BEGIN:VCALENDAR
VERSION:2.0
PRODID:-//ChamberMaster//Event Calendar 2.0//EN
METHOD:PUBLISH
X-PUBLISHED-TTL:P3D
REFRESH-INTERVAL:P3D
CALSCALE:GREGORIAN
BEGIN:VEVENT
DTSTART:20181005T170000Z
DTEND:20181005T210000Z
X-MICROSOFT-CDO-ALLDAYEVENT:FALSE
SUMMARY:Ribbon Cutting Porterville Smog and Tune
DESCRIPTION:
X-ALT-DESC;FMTTYPE=text/html:
LOCATION:Porterville Smog and Tune 363 East Olive Ave. Porterville CA 93257
UID:e.2225.1815
SEQUENCE:3
DTSTAMP:20260422T003701Z
URL:https://business.portervillechamber.org/events/details/ribbon-cutting-porterville-smog-and-tune-1815
END:VEVENT

END:VCALENDAR
