BEGIN:VCALENDAR
VERSION:2.0
PRODID:-//ChamberMaster//Event Calendar 2.0//EN
METHOD:PUBLISH
X-PUBLISHED-TTL:P3D
REFRESH-INTERVAL:P3D
CALSCALE:GREGORIAN
BEGIN:VEVENT
DTSTART:20260501T160000Z
DTEND:20260502T050000Z
X-MICROSOFT-CDO-ALLDAYEVENT:FALSE
SUMMARY:Ribbon Cutting- PUSD 7 Olive Street School
DESCRIPTION:Join us as we celebrate a meaningful community partnership between Porterville Unified School District\, CAL FIRE\, and the California Schoolyard Forest System. This ribbon cutting ceremony marks the launch of a transformative project bringing new trees\, shade\, and outdoor learning spaces to Olive Street School.\n\nCommunity members\, partners\, and supporters are invited to attend and take part in this milestone moment for local students and the environment.
X-ALT-DESC;FMTTYPE=text/html:<p><span style="white-space: pre-wrap\;">Join us as we celebrate a meaningful community partnership between <strong>Porterville Unified School District</strong>\, <strong>CAL FIRE</strong>\, and the <strong>California Schoolyard Forest System</strong>. This ribbon&#8209\;cutting ceremony marks the launch of a transformative project bringing new trees\, shade\, and outdoor learning spaces to <strong>Olive Street School</strong>.</span></p>\n\n<p><span style="white-space: pre-wrap\;">Community members\, partners\, and supporters are invited to attend and take part in this milestone moment for local students and the environment.</span></p>\n
LOCATION:255 West Olive Avenue\, Porterville\, CA 93257
UID:e.2225.4850
SEQUENCE:3
DTSTAMP:20260420T235030Z
URL:https://business.portervillechamber.org/events/details/ribbon-cutting-pusd-7-olive-street-school-4850
END:VEVENT

END:VCALENDAR
