BEGIN:VCALENDAR
VERSION:2.0
PRODID:-//ChamberMaster//Event Calendar 2.0//EN
METHOD:PUBLISH
X-PUBLISHED-TTL:P3D
REFRESH-INTERVAL:P3D
CALSCALE:GREGORIAN
BEGIN:VEVENT
DTSTART:20180123T180000Z
DTEND:20180123T200000Z
X-MICROSOFT-CDO-ALLDAYEVENT:FALSE
SUMMARY:Royal Porter Putnam Exhibit/Ribbon Cutting
DESCRIPTION:Come join us for the opening of a revealing new exhibit at the\n\nPorterville Historical Museum. Collector and historian John McWilliams\n\nwill be sharing parts of his extensive collection of Porterville\n\nmemorabilia. Among the treasures housed in his "Porterville &\n\nSoutheastern Tulare County Historical Archive" are the personal\n\npossessions of Royal Porter Putnam and his immediate family. This\n\nincludes our city founder's Colt Revolver\, desk\, pocket watch and\n\nother personal effects. Mrs. Putnam's jewelry\, opera glasses\, gold\n\npencil and other items will be displayed. Porter's business papers and\n\nfamily photographs have been preserved as well\, a portion of which\n\nwill be on view.\n\n        Mr. McWilliams was able to acquire this important collection over the\n\npast few years from the one remaining descendant of R. Porter Putnam.\n\nJohn will be sharing these items and other early Porterville treasures\n\nfrom his archive. The exhibit opens Tuesday\, January 23d\, 2018 and\n\nwill be on display until January of 2020. This marks the first time\n\nthat the Hodgson Room in the heart of our museum has seen a new\n\ndisplay since its creation in the 1960s. The showing of these\n\nimportant items relating to our Wild West past will be of interest to\n\nall ages. For further information feel free to call the curator of the\n\nexhibit\, John McWilliams at 310-7270.
X-ALT-DESC;FMTTYPE=text/html:<span style="color: rgb(34\, 34\, 34)\; font-family: arial\, sans-serif\; font-size: 12.8px\;">Come join us for the opening of a revealing new exhibit at the</span><br style="color: rgb(34\, 34\, 34)\; font-family: arial\, sans-serif\; font-size: 12.8px\;" />\n<span style="color: rgb(34\, 34\, 34)\; font-family: arial\, sans-serif\; font-size: 12.8px\;">Porterville Historical Museum. Collector and historian John McWilliams</span><br style="color: rgb(34\, 34\, 34)\; font-family: arial\, sans-serif\; font-size: 12.8px\;" />\n<span style="color: rgb(34\, 34\, 34)\; font-family: arial\, sans-serif\; font-size: 12.8px\;">will be sharing parts of his extensive collection of Porterville</span><br style="color: rgb(34\, 34\, 34)\; font-family: arial\, sans-serif\; font-size: 12.8px\;" />\n<span style="color: rgb(34\, 34\, 34)\; font-family: arial\, sans-serif\; font-size: 12.8px\;">memorabilia. Among the treasures housed in his &ldquo\;Porterville &amp\;</span><br style="color: rgb(34\, 34\, 34)\; font-family: arial\, sans-serif\; font-size: 12.8px\;" />\n<span style="color: rgb(34\, 34\, 34)\; font-family: arial\, sans-serif\; font-size: 12.8px\;">Southeastern Tulare County Historical Archive&rdquo\; are the personal</span><br style="color: rgb(34\, 34\, 34)\; font-family: arial\, sans-serif\; font-size: 12.8px\;" />\n<span style="color: rgb(34\, 34\, 34)\; font-family: arial\, sans-serif\; font-size: 12.8px\;">possessions of Royal Porter Putnam and his immediate family. This</span><br style="color: rgb(34\, 34\, 34)\; font-family: arial\, sans-serif\; font-size: 12.8px\;" />\n<span style="color: rgb(34\, 34\, 34)\; font-family: arial\, sans-serif\; font-size: 12.8px\;">includes our city founder&rsquo\;s Colt Revolver\, desk\, pocket watch and</span><br style="color: rgb(34\, 34\, 34)\; font-family: arial\, sans-serif\; font-size: 12.8px\;" />\n<span style="color: rgb(34\, 34\, 34)\; font-family: arial\, sans-serif\; font-size: 12.8px\;">other personal effects. Mrs. Putnam&rsquo\;s jewelry\, opera glasses\, gold</span><br style="color: rgb(34\, 34\, 34)\; font-family: arial\, sans-serif\; font-size: 12.8px\;" />\n<span style="color: rgb(34\, 34\, 34)\; font-family: arial\, sans-serif\; font-size: 12.8px\;">pencil and other items will be displayed. Porter&rsquo\;s business papers and</span><br style="color: rgb(34\, 34\, 34)\; font-family: arial\, sans-serif\; font-size: 12.8px\;" />\n<span style="color: rgb(34\, 34\, 34)\; font-family: arial\, sans-serif\; font-size: 12.8px\;">family photographs have been preserved as well\, a portion of which</span><br style="color: rgb(34\, 34\, 34)\; font-family: arial\, sans-serif\; font-size: 12.8px\;" />\n<span style="color: rgb(34\, 34\, 34)\; font-family: arial\, sans-serif\; font-size: 12.8px\;">will be on view.</span><br style="color: rgb(34\, 34\, 34)\; font-family: arial\, sans-serif\; font-size: 12.8px\;" />\n<span style="color: rgb(34\, 34\, 34)\; font-family: arial\, sans-serif\; font-size: 12.8px\;">&nbsp\; &nbsp\; &nbsp\; &nbsp\; Mr. McWilliams was able to acquire this important collection over the</span><br style="color: rgb(34\, 34\, 34)\; font-family: arial\, sans-serif\; font-size: 12.8px\;" />\n<span style="color: rgb(34\, 34\, 34)\; font-family: arial\, sans-serif\; font-size: 12.8px\;">past few years from the one remaining descendant of R. Porter Putnam.</span><br style="color: rgb(34\, 34\, 34)\; font-family: arial\, sans-serif\; font-size: 12.8px\;" />\n<span style="color: rgb(34\, 34\, 34)\; font-family: arial\, sans-serif\; font-size: 12.8px\;">John will be sharing these items and other early Porterville treasures</span><br style="color: rgb(34\, 34\, 34)\; font-family: arial\, sans-serif\; font-size: 12.8px\;" />\n<span style="color: rgb(34\, 34\, 34)\; font-family: arial\, sans-serif\; font-size: 12.8px\;">from his archive. The exhibit opens&nbsp\;</span><span class="m_-8687891433662143421gmail-aBn" style="color: rgb(34\, 34\, 34)\; font-family: arial\, sans-serif\; font-size: 12.8px\;"><span class="m_-8687891433662143421gmail-aQJ">Tuesday</span></span><span style="color: rgb(34\, 34\, 34)\; font-family: arial\, sans-serif\; font-size: 12.8px\;">\, January 23d\, 2018 and</span><br style="color: rgb(34\, 34\, 34)\; font-family: arial\, sans-serif\; font-size: 12.8px\;" />\n<span style="color: rgb(34\, 34\, 34)\; font-family: arial\, sans-serif\; font-size: 12.8px\;">will be on display until January of 2020. This marks the first time</span><br style="color: rgb(34\, 34\, 34)\; font-family: arial\, sans-serif\; font-size: 12.8px\;" />\n<span style="color: rgb(34\, 34\, 34)\; font-family: arial\, sans-serif\; font-size: 12.8px\;">that the Hodgson Room in the heart of our museum has seen a new</span><br style="color: rgb(34\, 34\, 34)\; font-family: arial\, sans-serif\; font-size: 12.8px\;" />\n<span style="color: rgb(34\, 34\, 34)\; font-family: arial\, sans-serif\; font-size: 12.8px\;">display since its creation in the 1960s. The showing of these</span><br style="color: rgb(34\, 34\, 34)\; font-family: arial\, sans-serif\; font-size: 12.8px\;" />\n<span style="color: rgb(34\, 34\, 34)\; font-family: arial\, sans-serif\; font-size: 12.8px\;">important items relating to our Wild West past will be of interest to</span><br style="color: rgb(34\, 34\, 34)\; font-family: arial\, sans-serif\; font-size: 12.8px\;" />\n<span style="color: rgb(34\, 34\, 34)\; font-family: arial\, sans-serif\; font-size: 12.8px\;">all ages. For further information feel free to call the curator of the</span><br style="color: rgb(34\, 34\, 34)\; font-family: arial\, sans-serif\; font-size: 12.8px\;" />\n<span style="color: rgb(34\, 34\, 34)\; font-family: arial\, sans-serif\; font-size: 12.8px\;">exhibit\, John McWilliams at 310-7270.</span>
LOCATION:Porterville Historical Museum
UID:e.2225.1290
SEQUENCE:3
DTSTAMP:20260422T163605Z
URL:https://business.portervillechamber.org/events/details/royal-porter-putnam-exhibit-ribbon-cutting-1290
END:VEVENT

END:VCALENDAR
