BEGIN:VCALENDAR
VERSION:2.0
PRODID:-//ChamberMaster//Event Calendar 2.0//EN
METHOD:PUBLISH
X-PUBLISHED-TTL:P3D
REFRESH-INTERVAL:P3D
CALSCALE:GREGORIAN
BEGIN:VEVENT
DTSTART;VALUE=DATE:20200502
DTEND;VALUE=DATE:20200503
TRANSP:TRANSPARENT
X-MICROSOFT-CDO-ALLDAYEVENT:TRUE
SUMMARY:Run for Life 5K Run/Walk
DESCRIPTION:Join the Porterville Breakfast Rotary Club at the Annual Cancer Run/Walk. All proceeds go to the Roger S. Good Cancer Treatment Center at Sierra View Medical Center. This year's event will be honoring Missy Wise and Rick Cooksey.\n\nTo register\, visit www.portervillerunforlife.com.
X-ALT-DESC;FMTTYPE=text/html:<span id="docs-internal-guid-f88b043d-7fff-632a-f564-6d8c816cca6a"><span style="font-size: 11pt\; font-family: Arial\; color: rgb(0\, 0\, 0)\; background-color: transparent\; font-variant-numeric: normal\; font-variant-east-asian: normal\; vertical-align: baseline\; white-space: pre-wrap\;">Join the Porterville Breakfast Rotary Club at the Annual Cancer Run/Walk. All proceeds go to the Roger S. Good Cancer Treatment Center at Sierra View Medical Center. This year&rsquo\;s event will be honoring Missy Wise and Rick Cooksey.<br />\nTo register\, visit </span><a href="http://www.portervillerunforlife.com" style="text-decoration-line: none\;"><span style="font-size: 11pt\; font-family: Arial\; color: rgb(17\, 85\, 204)\; background-color: transparent\; font-variant-numeric: normal\; font-variant-east-asian: normal\; text-decoration-line: underline\; text-decoration-skip-ink: none\; vertical-align: baseline\; white-space: pre-wrap\;">www.portervillerunforlife.com</span></a><span style="font-size: 11pt\; font-family: Arial\; color: rgb(0\, 0\, 0)\; background-color: transparent\; font-variant-numeric: normal\; font-variant-east-asian: normal\; vertical-align: baseline\; white-space: pre-wrap\;">.</span></span>
LOCATION:Granite Hills High School 1701 E Putnam Avenue Porterville\, CA 93257
UID:e.2225.2130
SEQUENCE:3
DTSTAMP:20260420T151329Z
URL:https://business.portervillechamber.org/events/details/run-for-life-5k-run-walk-2130
END:VEVENT

END:VCALENDAR
