BEGIN:VCALENDAR
VERSION:2.0
PRODID:-//ChamberMaster//Event Calendar 2.0//EN
METHOD:PUBLISH
X-PUBLISHED-TTL:P3D
REFRESH-INTERVAL:P3D
CALSCALE:GREGORIAN
BEGIN:VEVENT
DTSTART:20190306T190000Z
DTEND:20190306T210000Z
X-MICROSOFT-CDO-ALLDAYEVENT:FALSE
SUMMARY:San Joaquin Valley College Porterville - Job Fair
DESCRIPTION:The San Joaquin Valley College (Porterville Campus) would like to invite you to their Annual Job Fair.
X-ALT-DESC;FMTTYPE=text/html:The San Joaquin Valley College (Porterville Campus) would like to invite you to their Annual Job Fair.
LOCATION:San Joaquin Vally College ( Porterville Campus) 314 N. Main St.
UID:e.2225.1888
SEQUENCE:3
DTSTAMP:20260421T155657Z
URL:https://business.portervillechamber.org/events/details/san-joaquin-valley-college-porterville-job-fair-1888
END:VEVENT

END:VCALENDAR
