BEGIN:VCALENDAR
VERSION:2.0
PRODID:-//ChamberMaster//Event Calendar 2.0//EN
METHOD:PUBLISH
X-PUBLISHED-TTL:P3D
REFRESH-INTERVAL:P3D
CALSCALE:GREGORIAN
BEGIN:VEVENT
DTSTART:20191106T180000Z
DTEND:20191106T190000Z
X-MICROSOFT-CDO-ALLDAYEVENT:FALSE
SUMMARY:San Joaquin Valley Homes Ribbon Cutting Ceremony
DESCRIPTION:San Joaquin Valley Homes and the Porterville Chamber of Commerce invites you to join us for San Joaquin Valley Homes Ribbon Cutting Ceremony.
X-ALT-DESC;FMTTYPE=text/html:San Joaquin Valley Homes and the Porterville Chamber of Commerce invites you to join us for San Joaquin Valley Homes Ribbon Cutting Ceremony.
LOCATION:827 N Elderwood Porterville\, CA 93257 Off of Henderson\, west of N Westwood St
UID:e.2225.2068
SEQUENCE:3
DTSTAMP:20260421T015255Z
URL:https://business.portervillechamber.org/events/details/san-joaquin-valley-homes-ribbon-cutting-ceremony-2068
END:VEVENT

END:VCALENDAR
