BEGIN:VCALENDAR
VERSION:2.0
PRODID:-//ChamberMaster//Event Calendar 2.0//EN
METHOD:PUBLISH
X-PUBLISHED-TTL:P3D
REFRESH-INTERVAL:P3D
CALSCALE:GREGORIAN
BEGIN:VEVENT
DTSTART:20191212T013000Z
DTEND:20191212T040000Z
X-MICROSOFT-CDO-ALLDAYEVENT:FALSE
SUMMARY:Santa in the Park
DESCRIPTION:The Porterville Police Department and the Porterville Chamber of Commerce invite you to Santa in the Park. This event is on Wednesday\, December 11th\, 2019 from 5:30 p.m. to 8:00 p.m. at Centennial Park on Main Street. We will provide free pictures with Santa Claus and give away candy canes and stuffed animals. Kids will also have the chance to win bikes\, donated by Walmart. The Cantrell's Horse and Carriage Rides' will provide rides to the children\, and music will be provided by Harmony Magnet Academy Music Department. \n\nSanta in the Park is sponsored by Walmart Distribution Center\, A New Leash on Life\, PetSmart\, City of Porterville\, City of Porterville Parks & Leisure\, and Walmart. \n\n\n\nWe would like to invite everyone to attend this public event. This is a chance to meet Santa and enjoy the festive atmosphere this holiday season!
X-ALT-DESC;FMTTYPE=text/html:The Porterville Police Department and the Porterville Chamber of Commerce invite you to Santa in the Park. This event is on Wednesday\, December 11th\, 2019 from 5:30 p.m. to 8:00 p.m. at Centennial Park on Main Street. We will provide free pictures with Santa Claus and give away candy canes and stuffed animals. Kids will also have the chance to win bikes\, donated by Walmart. The Cantrell&#39\;s Horse and Carriage Rides&#39\; will provide rides to the children\, and music will be provided by Harmony Magnet Academy Music Department.&nbsp\;<br />\nSanta in the Park is sponsored by Walmart Distribution Center\, A New Leash on Life\, PetSmart\, City of Porterville\, City of Porterville Parks &amp\; Leisure\, and Walmart.&nbsp\;<br />\n<br />\nWe would like to invite everyone to attend this public event. This is a chance to meet Santa and enjoy the festive atmosphere this holiday season!&nbsp\;
LOCATION:Centennial Park 296 N. Main Street Porterville\, CA 93257
UID:e.2225.2097
SEQUENCE:3
DTSTAMP:20260421T015122Z
URL:https://business.portervillechamber.org/events/details/santa-in-the-park-2097
END:VEVENT

END:VCALENDAR
