BEGIN:VCALENDAR
VERSION:2.0
PRODID:-//ChamberMaster//Event Calendar 2.0//EN
METHOD:PUBLISH
X-PUBLISHED-TTL:P3D
REFRESH-INTERVAL:P3D
CALSCALE:GREGORIAN
BEGIN:VEVENT
DTSTART:20171216T190000Z
DTEND:20171217T000000Z
X-MICROSOFT-CDO-ALLDAYEVENT:FALSE
SUMMARY:Santa's Elves Workshop
DESCRIPTION:Children's Workshop
X-ALT-DESC;FMTTYPE=text/html:Children&#39\;s Workshop
LOCATION:93 N Main Street\, Suite D
UID:e.2225.1267
SEQUENCE:3
DTSTAMP:20260422T181010Z
URL:https://business.portervillechamber.org/events/details/santa-s-elves-workshop-1267
END:VEVENT

END:VCALENDAR
