BEGIN:VCALENDAR
VERSION:2.0
PRODID:-//ChamberMaster//Event Calendar 2.0//EN
METHOD:PUBLISH
X-PUBLISHED-TTL:P3D
REFRESH-INTERVAL:P3D
CALSCALE:GREGORIAN
BEGIN:VEVENT
DTSTART:20190805T150000Z
DTEND:20190805T190000Z
X-MICROSOFT-CDO-ALLDAYEVENT:FALSE
SUMMARY:Science\, Mathematics and Resource Technology (S.M.A.R.T.) Lab Summer Camp- STARTS
DESCRIPTION:Registration is now open for the Porterville College Foundation's summer Science\, Mathematics and Resource Technology (S.M.A.R.T.) Lab camps. Space is limited so register today! Camps are open to 4th   6th grade students and explore life\, earth and physical science through a variety of experiments and projects. Students can expect to use compound and dissecting microscopes\, perform dissections\, build race cars and learn about current and static electricity\, chemical reactions\, rockets\, magnets and more.
X-ALT-DESC;FMTTYPE=text/html:<span style="color: rgb(68\, 68\, 68)\; font-family: arial\, sans-serif\; font-size: 16px\;">Registration is now open for the Porterville College Foundation&rsquo\;s summer Science\, Mathematics and Resource Technology (S.M.A.R.T.) Lab camps. Space is limited so register today! Camps are open to 4th &ndash\; 6th grade students and explore life\, earth and physical science through a variety of experiments and projects. Students can expect to use compound and dissecting microscopes\, perform dissections\, build race cars and learn about current and static electricity\, chemical reactions\, rockets\, magnets and more.</span>
LOCATION:Porterville College 100 E. College Ave.\, Porterville\, CA 93257
UID:e.2225.1995
SEQUENCE:3
DTSTAMP:20260421T072847Z
URL:https://business.portervillechamber.org/events/details/science-mathematics-and-resource-technology-s-m-a-r-t-lab-summer-camp-starts-1995
END:VEVENT

END:VCALENDAR
