BEGIN:VCALENDAR
VERSION:2.0
PRODID:-//ChamberMaster//Event Calendar 2.0//EN
METHOD:PUBLISH
X-PUBLISHED-TTL:P3D
REFRESH-INTERVAL:P3D
CALSCALE:GREGORIAN
BEGIN:VEVENT
DTSTART:20170723T010000Z
DTEND:20170723T060000Z
X-MICROSOFT-CDO-ALLDAYEVENT:FALSE
SUMMARY:SETCO Hawaiian Luau
DESCRIPTION:Hawaiian Luau Dinner & Entertainment
X-ALT-DESC;FMTTYPE=text/html:Hawaiian Luau Dinner &amp\; Entertainment
LOCATION:Nuckols Ranch 13144 Road 216 Porterville\, CA 93257
UID:e.2225.1216
SEQUENCE:3
DTSTAMP:20260423T052601Z
URL:https://business.portervillechamber.org/events/details/setco-hawaiian-luau-1216
END:VEVENT

END:VCALENDAR
