BEGIN:VCALENDAR
VERSION:2.0
PRODID:-//ChamberMaster//Event Calendar 2.0//EN
METHOD:PUBLISH
X-PUBLISHED-TTL:P3D
REFRESH-INTERVAL:P3D
CALSCALE:GREGORIAN
BEGIN:VEVENT
DTSTART:20170922T170000Z
DTEND:20170922T210000Z
X-MICROSOFT-CDO-ALLDAYEVENT:FALSE
SUMMARY:Shredding and E-Waste Event
DESCRIPTION:Shredding Event at the Chamber
X-ALT-DESC;FMTTYPE=text/html:Shredding Event at the Chamber
LOCATION:Parking Lot behind the Chamber
UID:e.2225.1246
SEQUENCE:3
DTSTAMP:20260422T232725Z
URL:https://business.portervillechamber.org/events/details/shredding-and-e-waste-event-1246
END:VEVENT

END:VCALENDAR
