BEGIN:VCALENDAR
VERSION:2.0
PRODID:-//ChamberMaster//Event Calendar 2.0//EN
METHOD:PUBLISH
X-PUBLISHED-TTL:P3D
REFRESH-INTERVAL:P3D
CALSCALE:GREGORIAN
BEGIN:VEVENT
DTSTART:20190328T160000Z
DTEND:20190328T200000Z
X-MICROSOFT-CDO-ALLDAYEVENT:FALSE
SUMMARY:Shredding Event
DESCRIPTION:Shredding important documents to prevent identity theft. No X- rays\, binders\, or binder clips accepted
X-ALT-DESC;FMTTYPE=text/html:Shredding important documents to prevent identity theft. No X- rays\, binders\, or binder clips accepted
LOCATION:Chamber of Commerce 93 N main Street (Back parking Lot)
UID:e.2225.1898
SEQUENCE:3
DTSTAMP:20260421T154958Z
URL:https://business.portervillechamber.org/events/details/shredding-event-03-28-2019-1898
END:VEVENT

END:VCALENDAR
