BEGIN:VCALENDAR
VERSION:2.0
PRODID:-//ChamberMaster//Event Calendar 2.0//EN
METHOD:PUBLISH
X-PUBLISHED-TTL:P3D
REFRESH-INTERVAL:P3D
CALSCALE:GREGORIAN
BEGIN:VEVENT
DTSTART:20180622T160000Z
DTEND:20180622T200000Z
X-MICROSOFT-CDO-ALLDAYEVENT:FALSE
SUMMARY:Shredding Event
DESCRIPTION:The Porterville Chamber of Commerce would like to invite you to the Shredding Event. Chamber Members are allotted 2 free boxes ($5.00 per additional box) non chamber members will be charged $5.00 per box.
X-ALT-DESC;FMTTYPE=text/html:The Porterville Chamber&nbsp\;of Commerce&nbsp\;would like to invite you to the Shredding Event. Chamber Members are allotted 2 free boxes ($5.00 per additional box) non chamber members will be charged $5.00 per box.&nbsp\;
LOCATION:Porterville Chamber back parking lot
UID:e.2225.1492
SEQUENCE:3
DTSTAMP:20260422T073001Z
URL:https://business.portervillechamber.org/events/details/shredding-event-1492
END:VEVENT

END:VCALENDAR
