BEGIN:VCALENDAR
VERSION:2.0
PRODID:-//ChamberMaster//Event Calendar 2.0//EN
METHOD:PUBLISH
X-PUBLISHED-TTL:P3D
REFRESH-INTERVAL:P3D
CALSCALE:GREGORIAN
BEGIN:VEVENT
DTSTART:20170808T183000Z
DTEND:20170808T200000Z
X-MICROSOFT-CDO-ALLDAYEVENT:FALSE
SUMMARY:SHRM - Legal Update Luncheon
DESCRIPTION:Legal Updates Luncheon
X-ALT-DESC;FMTTYPE=text/html:Legal Updates Luncheon
LOCATION:Visalia Marriott Hotel 300 S. Court Street
UID:e.2225.1232
SEQUENCE:3
DTSTAMP:20260423T013243Z
URL:https://business.portervillechamber.org/events/details/shrm-legal-update-luncheon-1232
END:VEVENT

END:VCALENDAR
