BEGIN:VCALENDAR
VERSION:2.0
PRODID:-//ChamberMaster//Event Calendar 2.0//EN
METHOD:PUBLISH
X-PUBLISHED-TTL:P3D
REFRESH-INTERVAL:P3D
CALSCALE:GREGORIAN
BEGIN:VEVENT
DTSTART;VALUE=DATE:20190405
DTEND;VALUE=DATE:20190406
TRANSP:TRANSPARENT
X-MICROSOFT-CDO-ALLDAYEVENT:TRUE
SUMMARY:Sierra View Golf Classic
DESCRIPTION:Fifteenth Annual Golf Classic benefiting the Sierra View Foundation. Register online at www.sierra-view.com/golf
X-ALT-DESC;FMTTYPE=text/html:Fifteenth Annual Golf Classic benefiting the Sierra View Foundation. Register online at www.sierra-view.com/golf
LOCATION:River Island Country Club
UID:e.2225.1882
SEQUENCE:3
DTSTAMP:20260421T140804Z
URL:https://business.portervillechamber.org/events/details/sierra-view-golf-classic-1882
END:VEVENT

END:VCALENDAR
