BEGIN:VCALENDAR
VERSION:2.0
PRODID:-//ChamberMaster//Event Calendar 2.0//EN
METHOD:PUBLISH
X-PUBLISHED-TTL:P3D
REFRESH-INTERVAL:P3D
CALSCALE:GREGORIAN
BEGIN:VEVENT
DTSTART:20181006T000000Z
DTEND:20181006T020000Z
X-MICROSOFT-CDO-ALLDAYEVENT:FALSE
SUMMARY:Spaghetti Dinner Fundraiser
DESCRIPTION:Profits will go towards the Porterville College Food Pantry the "Pirate Pantry" Takeout Orders Available!
X-ALT-DESC;FMTTYPE=text/html:Profits will go towards the Porterville College Food Pantry the &quot\;Pirate Pantry&quot\; Takeout Orders Available!
LOCATION:First Congregational Church 165 E. Mill Ave
UID:e.2225.1788
SEQUENCE:3
DTSTAMP:20260422T022319Z
URL:https://business.portervillechamber.org/events/details/spaghetti-dinner-fundraiser-1788
END:VEVENT

END:VCALENDAR
