BEGIN:VCALENDAR
VERSION:2.0
PRODID:-//ChamberMaster//Event Calendar 2.0//EN
METHOD:PUBLISH
X-PUBLISHED-TTL:P3D
REFRESH-INTERVAL:P3D
CALSCALE:GREGORIAN
BEGIN:VEVENT
DTSTART:20170823T153000Z
DTEND:20170823T163000Z
X-MICROSOFT-CDO-ALLDAYEVENT:FALSE
SUMMARY:Sub-Committee Downtown Meeting
DESCRIPTION:Pioneer Days Meeting - Please join us if you're interested in promoting the downtown area & our local community. We can always use more help. \n\nCome if you know any locals who would like a booth to sell home made items.\n\nCome if you know anyone who would like a booth for pioneer-period demonstrations.\n\nCome if you know anyone who has antique cars\, square dancers\, or antique sales connections.
X-ALT-DESC;FMTTYPE=text/html:<span style="color: rgb(34\, 34\, 34)\; font-family: arial\, sans-serif\; font-size: 12.8px\;">Pioneer Days Meeting - Please join us if you&#39\;re interested in promoting the downtown area &amp\; our local community. We can always use more help.&nbsp\;</span><br style="color: rgb(34\, 34\, 34)\; font-family: arial\, sans-serif\; font-size: 12.8px\;" />\n<span style="color: rgb(34\, 34\, 34)\; font-family: arial\, sans-serif\; font-size: 12.8px\;">Come if you know any locals who would like a booth to sell home made items.</span><br style="color: rgb(34\, 34\, 34)\; font-family: arial\, sans-serif\; font-size: 12.8px\;" />\n<span style="color: rgb(34\, 34\, 34)\; font-family: arial\, sans-serif\; font-size: 12.8px\;">Come if you know anyone who would like a booth for pioneer-period demonstrations.</span><br style="color: rgb(34\, 34\, 34)\; font-family: arial\, sans-serif\; font-size: 12.8px\;" />\n<span style="color: rgb(34\, 34\, 34)\; font-family: arial\, sans-serif\; font-size: 12.8px\;">Come if you know anyone who has antique cars\, square dancers\, or antique sales connections.</span>
LOCATION:Chamber Conference Room
UID:e.2225.1237
SEQUENCE:3
DTSTAMP:20260423T032746Z
URL:https://business.portervillechamber.org/events/details/sub-committee-downtown-meeting-1237
END:VEVENT

END:VCALENDAR
