BEGIN:VCALENDAR
VERSION:2.0
PRODID:-//ChamberMaster//Event Calendar 2.0//EN
METHOD:PUBLISH
X-PUBLISHED-TTL:P3D
REFRESH-INTERVAL:P3D
CALSCALE:GREGORIAN
BEGIN:VEVENT
DTSTART:20190915T233000Z
DTEND:20190916T030000Z
X-MICROSOFT-CDO-ALLDAYEVENT:FALSE
SUMMARY:Sunday Social
DESCRIPTION:
X-ALT-DESC;FMTTYPE=text/html:
LOCATION:Grand Avenue United Methodist Church 776 W. Grand Avenue\, Porterville\, CA 93257
UID:e.2225.2002
SEQUENCE:3
DTSTAMP:20260421T054132Z
URL:https://business.portervillechamber.org/events/details/sunday-social-2002
END:VEVENT

END:VCALENDAR
