BEGIN:VCALENDAR
VERSION:2.0
PRODID:-//ChamberMaster//Event Calendar 2.0//EN
METHOD:PUBLISH
X-PUBLISHED-TTL:P3D
REFRESH-INTERVAL:P3D
CALSCALE:GREGORIAN
BEGIN:VEVENT
DTSTART:20190603T010000Z
DTEND:20190603T050000Z
X-MICROSOFT-CDO-ALLDAYEVENT:FALSE
SUMMARY:Survivors Movie Night
DESCRIPTION:This Sunday is National Cancer Survivors day! Come and join Porterville Relay for Life as we celebrate our Survivors Sunday from 6pm-10pm. We will be providing dinner for our Survivors\, and will have a movie as well. All are welcome to come fellowship and appreciate our Cancer Survivors.
X-ALT-DESC;FMTTYPE=text/html:This Sunday is National Cancer Survivors day! Come and join Porterville Relay for Life as we celebrate our Survivors Sunday from 6pm-10pm. We will be providing dinner for our Survivors\, and will have a movie as well. All are welcome to come fellowship and appreciate our Cancer Survivors.<br />\n&nbsp\;
LOCATION:Centennial Park Porterville\, CA
UID:e.2225.1970
SEQUENCE:3
DTSTAMP:20260421T125205Z
URL:https://business.portervillechamber.org/events/details/survivors-movie-night-1970
END:VEVENT

END:VCALENDAR
