BEGIN:VCALENDAR
VERSION:2.0
PRODID:-//ChamberMaster//Event Calendar 2.0//EN
METHOD:PUBLISH
X-PUBLISHED-TTL:P3D
REFRESH-INTERVAL:P3D
CALSCALE:GREGORIAN
BEGIN:VEVENT
DTSTART:20190830T190000Z
DTEND:20190830T220000Z
X-MICROSOFT-CDO-ALLDAYEVENT:FALSE
SUMMARY:T.A.Y. v.s. P.W.C. Summer Rib Cook Off!
DESCRIPTION:Get it while it's hot! The Summer Rib Cook Off is here August 30th at 12-3pm!\n\nThe Porterville Wellness Center & Uplift Family Services invites the whole community to an afternoon of BBQ\, games\, and fun.\n\nFor more information\, call 559-256-1183!
X-ALT-DESC;FMTTYPE=text/html:<span style="color: rgb(28\, 30\, 33)\; font-family: Helvetica\, Arial\, sans-serif\; font-size: 14px\;">Get it while it&#39\;s hot! The Summer Rib Cook Off is here August 30th at 12-3pm!</span><br style="color: rgb(28\, 30\, 33)\; font-family: Helvetica\, Arial\, sans-serif\; font-size: 14px\;" />\n<span style="color: rgb(28\, 30\, 33)\; font-family: Helvetica\, Arial\, sans-serif\; font-size: 14px\;">The Porterville Wellness Center &amp\; Uplift Family Services invites the whole community to an afternoon of BBQ\, games\, and fun.</span><br style="color: rgb(28\, 30\, 33)\; font-family: Helvetica\, Arial\, sans-serif\; font-size: 14px\;" />\n<span style="color: rgb(28\, 30\, 33)\; font-family: Helvetica\, Arial\, sans-serif\; font-size: 14px\;">For more information\, call 559-256-1183!</span>
LOCATION:333 W. Henderson Avenue\, Porterville\, Ca 93257
UID:e.2225.1999
SEQUENCE:3
DTSTAMP:20260421T073053Z
URL:https://business.portervillechamber.org/events/details/t-a-y-v-s-p-w-c-summer-rib-cook-off-1999
END:VEVENT

END:VCALENDAR
