BEGIN:VCALENDAR
VERSION:2.0
PRODID:-//ChamberMaster//Event Calendar 2.0//EN
METHOD:PUBLISH
X-PUBLISHED-TTL:P3D
REFRESH-INTERVAL:P3D
CALSCALE:GREGORIAN
BEGIN:VEVENT
DTSTART:20200104T190000Z
DTEND:20200104T200000Z
X-MICROSOFT-CDO-ALLDAYEVENT:FALSE
SUMMARY:Tai Chai for Seniors
DESCRIPTION:Balance By Design is introducing "Tai Chi for Seniors!" Join Certified Instructor Cindy Battee on Saturday\, January 4th for a free demo. The style of Tai Chi is designed specifically for seniors and is perfect for those of all levels.
X-ALT-DESC;FMTTYPE=text/html:<p dir="ltr" style="line-height:1.38\;margin-top:0pt\;margin-bottom:0pt\;"><span id="docs-internal-guid-9dc8ffa1-7fff-f63e-f55a-7e8cc28103f6"><span style="font-size: 11pt\; font-family: Arial\; color: rgb(0\, 0\, 0)\; background-color: transparent\; font-variant-numeric: normal\; font-variant-east-asian: normal\; vertical-align: baseline\; white-space: pre-wrap\;">Balance By Design is introducing &ldquo\;Tai Chi for Seniors!&rdquo\; Join Certified Instructor Cindy Battee on Saturday\, January 4th for a free demo. The style of Tai Chi is designed specifically for seniors and is perfect for those of all levels.</span></span></p>\n
LOCATION:Balance by Design 109 N. Main Street\, Porterville\, CA 93257
UID:e.2225.2106
SEQUENCE:3
DTSTAMP:20260420T221440Z
URL:https://business.portervillechamber.org/events/details/tai-chai-for-seniors-2106
END:VEVENT

END:VCALENDAR
