BEGIN:VCALENDAR
VERSION:2.0
PRODID:-//ChamberMaster//Event Calendar 2.0//EN
METHOD:PUBLISH
X-PUBLISHED-TTL:P3D
REFRESH-INTERVAL:P3D
CALSCALE:GREGORIAN
BEGIN:VEVENT
DTSTART:20191019T170000Z
DTEND:20191020T000000Z
X-MICROSOFT-CDO-ALLDAYEVENT:FALSE
SUMMARY:Taste the Arts
DESCRIPTION:The Tenth Annual Taste the Arts Festival is coming to Downtown Visalia October 19th. Experience three city blocks of art\, culture\, and wellness activities during the annual festival in Downtown Visalia. California artists display their work on Garden Street between the Garden Street Plaza and the Old Lumberyard in the largest outdoor arts festival in the Valley! Taste The Arts will feature over 100 artists\, three stages and a variety of free hands-on activities. No tickets are needed to attend this FREE family-friendly event is fun for all ages and is enjoyable for everyone. Taste The Arts will be open from 10am-5pm and is a day filled with fun free activities. Indulge in a wide variety of foods as diverse as the crops grown in our Valley from local food trucks. For more information about Taste The Arts visit: artsconsortium.org/tastethearts or call (559) 802-3266
X-ALT-DESC;FMTTYPE=text/html:The Tenth Annual Taste the Arts Festival is coming to Downtown Visalia October 19th. Experience three city blocks of art\, culture\, and wellness activities during the annual festival in Downtown Visalia. California artists display their work on Garden Street between the Garden Street Plaza and the Old Lumberyard in the largest outdoor arts festival in the Valley! Taste The Arts will feature over 100 artists\, three stages and a variety of free hands-on activities. No tickets are needed to attend this FREE family-friendly event is fun for all ages and is enjoyable for everyone. Taste The Arts will be open from 10am-5pm and is a day filled with fun free activities. Indulge in a wide variety of foods as diverse as the crops grown in our Valley from local food trucks. For more information about Taste The Arts visit: artsconsortium.org/tastethearts or call (559) 802-3266
LOCATION:Visalia Arts Consortium\, 300 E. Oak Ave.\, Visalia\, CA
UID:e.2225.2008
SEQUENCE:3
DTSTAMP:20260421T034839Z
URL:https://business.portervillechamber.org/events/details/taste-the-arts-2008
END:VEVENT

END:VCALENDAR
