BEGIN:VCALENDAR
VERSION:2.0
PRODID:-//ChamberMaster//Event Calendar 2.0//EN
METHOD:PUBLISH
X-PUBLISHED-TTL:P3D
REFRESH-INTERVAL:P3D
CALSCALE:GREGORIAN
BEGIN:VEVENT
DTSTART:20190727T010000Z
DTEND:20190727T030000Z
X-MICROSOFT-CDO-ALLDAYEVENT:FALSE
SUMMARY:TCSO's Traveling Basketball Team Tryouts
DESCRIPTION:Girls\, ages 12-16\, are invited to try out for TCSO*s first traveling basketball team this Friday evening at Pixley Middle School. Deputy Kendra Snowden will be their coach. \n\n*I*m going to keep the girls focused on basketball and off the streets\,* she said. *Basketball was my way out.*\n\nDeputy Snowden played basketball for El Diamante High School. After graduation\, she played college basketball at Sacramento City College in California and Park University in Missouri.  \n\nShe said she had to maintain good grades to play basketball and that helped her earn her college degree which led to her career in law enforcement. \n\nWho: Tulare County girls\, ages 12-16\n\nWhat: Tryouts for TCSO traveling team\n\nCost: FREE!
X-ALT-DESC;FMTTYPE=text/html:<span style="color: rgb(34\, 34\, 34)\; font-family: Arial\, Helvetica\, sans-serif\; font-size: small\; background-color: rgb(255\, 255\, 255)\;">Girls\, ages 12-16\, are invited to try out for TCSO*s first traveling basketball team this Friday evening at Pixley Middle School. Deputy Kendra Snowden will be their coach.&nbsp\;</span><br style="color: rgb(34\, 34\, 34)\; font-family: Arial\, Helvetica\, sans-serif\; font-size: small\; background-color: rgb(255\, 255\, 255)\;" />\n<span style="color: rgb(34\, 34\, 34)\; font-family: Arial\, Helvetica\, sans-serif\; font-size: small\; background-color: rgb(255\, 255\, 255)\;">*I*m going to keep the girls focused on basketball and off the streets\,* she said. *Basketball was my way out.*</span><br style="color: rgb(34\, 34\, 34)\; font-family: Arial\, Helvetica\, sans-serif\; font-size: small\; background-color: rgb(255\, 255\, 255)\;" />\n<span style="color: rgb(34\, 34\, 34)\; font-family: Arial\, Helvetica\, sans-serif\; font-size: small\; background-color: rgb(255\, 255\, 255)\;">Deputy Snowden played basketball for El Diamante High School. After graduation\, she played college basketball at Sacramento City College in California and Park University in Missouri.&nbsp\;&nbsp\;</span><br style="color: rgb(34\, 34\, 34)\; font-family: Arial\, Helvetica\, sans-serif\; font-size: small\; background-color: rgb(255\, 255\, 255)\;" />\n<span style="color: rgb(34\, 34\, 34)\; font-family: Arial\, Helvetica\, sans-serif\; font-size: small\; background-color: rgb(255\, 255\, 255)\;">She said she had to maintain good grades to play basketball and that helped her earn her college degree which led to her career in law enforcement.&nbsp\;</span><br style="color: rgb(34\, 34\, 34)\; font-family: Arial\, Helvetica\, sans-serif\; font-size: small\; background-color: rgb(255\, 255\, 255)\;" />\n<span style="color: rgb(34\, 34\, 34)\; font-family: Arial\, Helvetica\, sans-serif\; font-size: small\; background-color: rgb(255\, 255\, 255)\;">Who: Tulare County girls\, ages 12-16</span><br style="color: rgb(34\, 34\, 34)\; font-family: Arial\, Helvetica\, sans-serif\; font-size: small\; background-color: rgb(255\, 255\, 255)\;" />\n<span style="color: rgb(34\, 34\, 34)\; font-family: Arial\, Helvetica\, sans-serif\; font-size: small\; background-color: rgb(255\, 255\, 255)\;">What: Tryouts for TCSO traveling team</span><br style="color: rgb(34\, 34\, 34)\; font-family: Arial\, Helvetica\, sans-serif\; font-size: small\; background-color: rgb(255\, 255\, 255)\;" />\n<span style="color: rgb(34\, 34\, 34)\; font-family: Arial\, Helvetica\, sans-serif\; font-size: small\; background-color: rgb(255\, 255\, 255)\;">Cost: FREE!</span>
LOCATION:Pixley Middle School 1520 E. Court Ave.\, Pixley\, CA 93256
UID:e.2225.1990
SEQUENCE:3
DTSTAMP:20260421T092446Z
URL:https://business.portervillechamber.org/events/details/tcso-s-traveling-basketball-team-tryouts-1990
END:VEVENT

END:VCALENDAR
