BEGIN:VCALENDAR
VERSION:2.0
PRODID:-//ChamberMaster//Event Calendar 2.0//EN
METHOD:PUBLISH
X-PUBLISHED-TTL:P3D
REFRESH-INTERVAL:P3D
CALSCALE:GREGORIAN
BEGIN:VEVENT
DTSTART:20190908T010000Z
DTEND:20190908T050000Z
X-MICROSOFT-CDO-ALLDAYEVENT:FALSE
SUMMARY:Teresa Russell Live at Pierpoint
DESCRIPTION:Teresa Russell live at Pierpoint! The only female to ever qualify in the "top 8" for the national finals in the Rock & Roll Hall of Fame's lead guitar competition.
X-ALT-DESC;FMTTYPE=text/html:Teresa Russell live at Pierpoint! The only female to ever qualify in the &quot\;top 8&quot\; for the national finals in the Rock &amp\; Roll Hall of Fame&#39\;s lead guitar competition.&nbsp\;
LOCATION:Pierpoint Bar & Grill 801 Highway 190 Springville\, CA 93265
UID:e.2225.2015
SEQUENCE:3
DTSTAMP:20260421T054311Z
URL:https://business.portervillechamber.org/events/details/teresa-russell-live-at-pierpoint-2015
END:VEVENT

END:VCALENDAR
