BEGIN:VCALENDAR
VERSION:2.0
PRODID:-//ChamberMaster//Event Calendar 2.0//EN
METHOD:PUBLISH
X-PUBLISHED-TTL:P3D
REFRESH-INTERVAL:P3D
CALSCALE:GREGORIAN
BEGIN:VEVENT
DTSTART:20191006T020000Z
DTEND:20191006T040000Z
X-MICROSOFT-CDO-ALLDAYEVENT:FALSE
SUMMARY:The Original 1925 Silent Movie
DESCRIPTION:
X-ALT-DESC;FMTTYPE=text/html:
LOCATION:First Congregational Church 165 E. Mill Ave Porterville\, CA 93257
UID:e.2225.2012
SEQUENCE:3
DTSTAMP:20260421T035017Z
URL:https://business.portervillechamber.org/events/details/the-original-1925-silent-movie-2012
END:VEVENT

END:VCALENDAR
