BEGIN:VCALENDAR
VERSION:2.0
PRODID:-//ChamberMaster//Event Calendar 2.0//EN
METHOD:PUBLISH
X-PUBLISHED-TTL:P3D
REFRESH-INTERVAL:P3D
CALSCALE:GREGORIAN
BEGIN:VEVENT
DTSTART;VALUE=DATE:20190330
DTEND;VALUE=DATE:20190331
TRANSP:TRANSPARENT
X-MICROSOFT-CDO-ALLDAYEVENT:TRUE
SUMMARY:The South Valley Art Tour
DESCRIPTION:Join us for this spectacular event. A chance to see some of the finest artworks in South Tulare County. The artists of Porterville and Springville have grouped together to eliminate much of your driving time and to give you a chance to enjoy more art. We will be at only 3 locations. The Porterville Art Association\, Steven Ball's Studio on the upper Globe Drive is hosting 6 artists and the downtown Springville art studios of Joy Harvey\, Debra Resa and the beautiful mosaic wall.\n\nBeautiful full color Passport booklets and entry pins are available at all three locations for $20 and admit 2 adults.
X-ALT-DESC;FMTTYPE=text/html:<span style="background-image:initial\;background-position:initial\;background-size:initial\;background-repeat:initial\;background-attachment:initial\;background-origin:initial\;background-clip:initial\;"><span style="color:#1c1e21\;"><span style="font-family:helvetica\,sans-serif\;"><span style="font-size:8.5pt\;">Join us for this spectacular event. A chance to see some of the finest artworks in South Tulare County. The artists of Porterville and Springville have grouped together to eliminate much of your driving time and to give you a chance to enjoy more art. We will be at only 3 locations. The Porterville Art Association\, Steven Ball&#39\;s Studio on the upper Globe Drive is hosting 6 artists and the downtown Springville art studios of Joy Harvey\, Debra Resa and the beautiful mosaic wall.</span></span></span></span><br />\n<span style="background-image:initial\;background-position:initial\;background-size:initial\;background-repeat:initial\;background-attachment:initial\;background-origin:initial\;background-clip:initial\;"><span style="color:#1c1e21\;"><span style="font-family:helvetica\,sans-serif\;"><span style="font-size:8.5pt\;">Beautiful full color Passport booklets and entry pins are available at all three locations for $20 and admit 2 adults.</span></span></span></span>
LOCATION:
UID:e.2225.1922
SEQUENCE:3
DTSTAMP:20260421T174026Z
URL:https://business.portervillechamber.org/events/details/the-south-valley-art-tour-1922
END:VEVENT

END:VCALENDAR
