BEGIN:VCALENDAR
VERSION:2.0
PRODID:-//ChamberMaster//Event Calendar 2.0//EN
METHOD:PUBLISH
X-PUBLISHED-TTL:P3D
REFRESH-INTERVAL:P3D
CALSCALE:GREGORIAN
BEGIN:VEVENT
DTSTART;VALUE=DATE:20180414
DTEND;VALUE=DATE:20180416
TRANSP:TRANSPARENT
X-MICROSOFT-CDO-ALLDAYEVENT:TRUE
SUMMARY:The South Valley Studio Tour
DESCRIPTION:The South Valley Tour 2018. The Arts consortium is offering an exclusive behind the-scenes look into the world of local artists April 14th. &15th. 2018. Over the course of two days\, numerous Tulare County artists will open their personal studio doors to the public\, demonstrating their individual creative processes and sharing different phases and facets of their work. Ticket holders can ask questions\, watch artists in action\, and build a more personalized relationship with the creative forces in our community. The Porterville Art Association Will be open featuring Jeanette Brewer\, Carol Byker\, George Tanimoto and other Association members plus seven other artists here in Porterville and Springville will open their studios: Joy Collier\, Joy Harvey\, and- Steven Ball whose studio will include Bill and Susie Bishop\, and Ron Zanini's workshop with Francis Pyles. Purchase tickets: Burford's Frame Shop\, Porterville Art Association or www.artsconsortium.org/sovast
X-ALT-DESC;FMTTYPE=text/html:The South Valley Tour 2018. The Arts consortium is offering an exclusive behind&ndash\;the-scenes look into the world of local artists April 14th. &amp\;15th. 2018. Over the course of two days\, numerous Tulare County artists will open their personal studio doors to the public\, demonstrating their individual creative processes and sharing different phases and facets of their work. Ticket holders can ask questions\, watch artists in action\, and build a more personalized relationship with the creative forces in our community. The Porterville Art Association Will be open featuring Jeanette Brewer\, Carol Byker\, George Tanimoto and other Association members plus seven other artists here in Porterville and Springville will open their studios: Joy Collier\, Joy Harvey\, and- Steven Ball whose studio will include Bill and Susie Bishop\, and Ron Zanini&rsquo\;s workshop with Francis Pyles. Purchase tickets: Burford&rsquo\;s Frame Shop\, Porterville Art Association or www.artsconsortium.org/sovast
LOCATION:Porterville\, Springville\, and other Tulare County locations
UID:e.2225.1461
SEQUENCE:3
DTSTAMP:20260422T113033Z
URL:https://business.portervillechamber.org/events/details/the-south-valley-studio-tour-1461
END:VEVENT

END:VCALENDAR
