BEGIN:VCALENDAR
VERSION:2.0
PRODID:-//ChamberMaster//Event Calendar 2.0//EN
METHOD:PUBLISH
X-PUBLISHED-TTL:P3D
REFRESH-INTERVAL:P3D
CALSCALE:GREGORIAN
BEGIN:VEVENT
DTSTART:20171118T200000Z
DTEND:20171119T000000Z
X-MICROSOFT-CDO-ALLDAYEVENT:FALSE
SUMMARY:Toys for Tots 6th Annual Car Show
DESCRIPTION:Nasty Habitz 6th Annual Toys for Tots Car Show\n\nVehicle entry: $25 or $15 with an unwrapped toy
X-ALT-DESC;FMTTYPE=text/html:Nasty Habitz&nbsp\;6th Annual Toys for Tots Car Show<br />\nVehicle entry: $25 or $15 with an unwrapped toy
LOCATION:897 W Henderson Ave Pizza Factory Parking Lot
UID:e.2225.1263
SEQUENCE:3
DTSTAMP:20260422T214719Z
URL:https://business.portervillechamber.org/events/details/toys-for-tots-6th-annual-car-show-1263
END:VEVENT

END:VCALENDAR
