BEGIN:VCALENDAR
VERSION:2.0
PRODID:-//ChamberMaster//Event Calendar 2.0//EN
METHOD:PUBLISH
X-PUBLISHED-TTL:P3D
REFRESH-INTERVAL:P3D
CALSCALE:GREGORIAN
BEGIN:VEVENT
DTSTART:20191026T150000Z
DTEND:20191026T220000Z
X-MICROSOFT-CDO-ALLDAYEVENT:FALSE
SUMMARY:Toys for Tots\, Dia de los Muertos Car Show
DESCRIPTION:Toys for Tots is hosting a Dia de los Muertos Car Show on Saturday\, October 26th\, 2019. Their will be a special appearance "Trokita Loca" 1st place award winner in Las Vegas. In addition\, their will be a La Catrina and El Catrin Contest.
X-ALT-DESC;FMTTYPE=text/html:Toys for Tots is hosting a Dia de los Muertos Car Show on Saturday\, October 26th\, 2019. Their will be a special appearance &quot\;Trokita Loca&quot\; 1st place award winner in Las Vegas. In addition\, their will be a La Catrina and El Catrin Contest.&nbsp\;
LOCATION:Downtown Main Street- Centennial Park
UID:e.2225.2073
SEQUENCE:3
DTSTAMP:20260421T035421Z
URL:https://business.portervillechamber.org/events/details/toys-for-tots-dia-de-los-muertos-car-show-2073
END:VEVENT

END:VCALENDAR
