BEGIN:VCALENDAR
VERSION:2.0
PRODID:-//ChamberMaster//Event Calendar 2.0//EN
METHOD:PUBLISH
X-PUBLISHED-TTL:P3D
REFRESH-INTERVAL:P3D
CALSCALE:GREGORIAN
BEGIN:VEVENT
DTSTART:20190620T003000Z
DTEND:20190620T013000Z
X-MICROSOFT-CDO-ALLDAYEVENT:FALSE
SUMMARY:Travel with the Chamber! Scotland info meeting
DESCRIPTION:Travel to Scotland in May of 2020! Hanson Travel Ideas has planned the trip of a lifetime and will be giving out more information on June 19th in the Chamber conference room.
X-ALT-DESC;FMTTYPE=text/html:Travel to Scotland in May of 2020! Hanson Travel Ideas has planned the trip of a lifetime and will be giving out more information on June 19th in the Chamber conference room.
LOCATION:Chamber of Commerce 93 N. Min St Porterville\, CA 93257
UID:e.2225.1974
SEQUENCE:3
DTSTAMP:20260421T125522Z
URL:https://business.portervillechamber.org/events/details/travel-with-the-chamber-scotland-info-meeting-1974
END:VEVENT

END:VCALENDAR
