BEGIN:VCALENDAR
VERSION:2.0
PRODID:-//ChamberMaster//Event Calendar 2.0//EN
METHOD:PUBLISH
X-PUBLISHED-TTL:P3D
REFRESH-INTERVAL:P3D
CALSCALE:GREGORIAN
BEGIN:VEVENT
DTSTART:20191031T220000Z
DTEND:20191101T000000Z
X-MICROSOFT-CDO-ALLDAYEVENT:FALSE
SUMMARY:TRUNK OR TREAT
DESCRIPTION:Sierra Hills is hosting a TRUNK OR TREAT.\n\nJoin Sierra Hills on Halloween for an afternoon of Trunk or Treat .\n\nSierra Hills Residents\, Grandchildren\, Associates\, Care Givers\, and Neighbors ARE WELCOME to attend.
X-ALT-DESC;FMTTYPE=text/html:Sierra Hills is hosting a TRUNK OR TREAT.<br />\nJoin Sierra Hills on Halloween for an afternoon of Trunk or Treat .<br />\nSierra Hills Residents\, Grandchildren\, Associates\, Care Givers\, and Neighbors ARE WELCOME to attend.
LOCATION:2500 W Henderson Porterville\, CA 93257
UID:e.2225.2067
SEQUENCE:3
DTSTAMP:20260421T034920Z
URL:https://business.portervillechamber.org/events/details/trunk-or-treat-2067
END:VEVENT

END:VCALENDAR
