BEGIN:VCALENDAR
VERSION:2.0
PRODID:-//ChamberMaster//Event Calendar 2.0//EN
METHOD:PUBLISH
X-PUBLISHED-TTL:P3D
REFRESH-INTERVAL:P3D
CALSCALE:GREGORIAN
BEGIN:VEVENT
DTSTART:20190414T010000Z
DTEND:20190414T040000Z
X-MICROSOFT-CDO-ALLDAYEVENT:FALSE
SUMMARY:Tulare County Citrus Growers Mimosa Social
DESCRIPTION:For reservations please contact the Museum at (559) 784- 2053 or email portervillemuseum@gmail.com
X-ALT-DESC;FMTTYPE=text/html:For reservations please contact the Museum at (559) 784- 2053 or email portervillemuseum@gmail.com
LOCATION:Porterville Historical Museum 257 N. D Street Porterville\, CA 93257
UID:e.2225.1927
SEQUENCE:3
DTSTAMP:20260421T141249Z
URL:https://business.portervillechamber.org/events/details/tulare-county-citrus-growers-mimosa-social-1927
END:VEVENT

END:VCALENDAR
