BEGIN:VCALENDAR
VERSION:2.0
PRODID:-//ChamberMaster//Event Calendar 2.0//EN
METHOD:PUBLISH
X-PUBLISHED-TTL:P3D
REFRESH-INTERVAL:P3D
CALSCALE:GREGORIAN
BEGIN:VEVENT
DTSTART:20191107T170000Z
DTEND:20191107T180000Z
X-MICROSOFT-CDO-ALLDAYEVENT:FALSE
SUMMARY:Tulare County HHSA Mental Health Branch Grand Opening & Ribbon Cutting
DESCRIPTION:Tulare County HHSA Mental Health Branch will be celebrating their Grand Opening! Join the Tulare County HHSA Mental Health Branch and the Porterville Chamber of Commerce at this Grand Opening & Ribbon Cutting ceremony! Refreshments will be served.
X-ALT-DESC;FMTTYPE=text/html:<span id="docs-internal-guid-0a5d502b-7fff-df9d-3e8b-9a41e922b557"><span style="font-size: 11pt\; font-family: Arial\; color: rgb(0\, 0\, 0)\; background-color: transparent\; font-variant-numeric: normal\; font-variant-east-asian: normal\; vertical-align: baseline\; white-space: pre-wrap\;">Tulare County HHSA Mental Health Branch will be celebrating their Grand Opening! Join the Tulare County HHSA Mental Health Branch and the Porterville Chamber of Commerce at this Grand Opening &amp\; Ribbon Cutting ceremony! Refreshments will be served.</span></span>
LOCATION:Porterville Long-Term Housing 43 North Lotas Street Porterville Ca 93257
UID:e.2225.2058
SEQUENCE:3
DTSTAMP:20260421T015956Z
URL:https://business.portervillechamber.org/events/details/tulare-county-hhsa-mental-health-branch-grand-opening-ribbon-cutting-2058
END:VEVENT

END:VCALENDAR
