BEGIN:VCALENDAR
VERSION:2.0
PRODID:-//ChamberMaster//Event Calendar 2.0//EN
METHOD:PUBLISH
X-PUBLISHED-TTL:P3D
REFRESH-INTERVAL:P3D
CALSCALE:GREGORIAN
BEGIN:VEVENT
DTSTART;VALUE=DATE:20190525
DTEND;VALUE=DATE:20190629
TRANSP:TRANSPARENT
X-MICROSOFT-CDO-ALLDAYEVENT:TRUE
SUMMARY:US Military Exhibit
DESCRIPTION:$5 for adults and $1 for students\n\nChildren 6 and under are free
X-ALT-DESC;FMTTYPE=text/html:$5 for adults and $1 for students<br />\nChildren 6 and under are free
LOCATION:Porterville Historical Museum 257 N. D Street Porterville\, CA 9257
UID:e.2225.1929
SEQUENCE:3
DTSTAMP:20260421T110215Z
URL:https://business.portervillechamber.org/events/details/us-military-exhibit-1929
END:VEVENT

END:VCALENDAR
