BEGIN:VCALENDAR
VERSION:2.0
PRODID:-//ChamberMaster//Event Calendar 2.0//EN
METHOD:PUBLISH
X-PUBLISHED-TTL:P3D
REFRESH-INTERVAL:P3D
CALSCALE:GREGORIAN
BEGIN:VEVENT
DTSTART:20170909T170000Z
DTEND:20170909T210000Z
X-MICROSOFT-CDO-ALLDAYEVENT:FALSE
SUMMARY:Valley Adult Day Services
DESCRIPTION:FUNdraiser - A community BBQ with vendors
X-ALT-DESC;FMTTYPE=text/html:FUNdraiser - A community BBQ with vendors<br />\n&nbsp\;
LOCATION:Valley Adult Day Services 227 E Oak Ave Porterville CA 93257
UID:e.2225.1221
SEQUENCE:3
DTSTAMP:20260422T233134Z
URL:https://business.portervillechamber.org/events/details/valley-adult-day-services-1221
END:VEVENT

END:VCALENDAR
