BEGIN:VCALENDAR
VERSION:2.0
PRODID:-//ChamberMaster//Event Calendar 2.0//EN
METHOD:PUBLISH
X-PUBLISHED-TTL:P3D
REFRESH-INTERVAL:P3D
CALSCALE:GREGORIAN
BEGIN:VEVENT
DTSTART:20190406T150000Z
DTEND:20190407T050000Z
X-MICROSOFT-CDO-ALLDAYEVENT:FALSE
SUMMARY:Valley Adult Day Services Rockathon
DESCRIPTION:Major fundraising event for Valley Adult Day Services. -Games -Food -Competitions -Dj and Band -Build Teams
X-ALT-DESC;FMTTYPE=text/html:Major fundraising event for Valley Adult Day Services. -Games -Food -Competitions -Dj and Band -Build Teams
LOCATION:Valley Adult Day Services 227 E. Oak ave.
UID:e.2225.1876
SEQUENCE:3
DTSTAMP:20260421T141137Z
URL:https://business.portervillechamber.org/events/details/valley-adult-day-services-rockathon-1876
END:VEVENT

END:VCALENDAR
