BEGIN:VCALENDAR
VERSION:2.0
PRODID:-//ChamberMaster//Event Calendar 2.0//EN
METHOD:PUBLISH
X-PUBLISHED-TTL:P3D
REFRESH-INTERVAL:P3D
CALSCALE:GREGORIAN
BEGIN:VEVENT
DTSTART:20180413T170000Z
DTEND:20180413T200000Z
X-MICROSOFT-CDO-ALLDAYEVENT:FALSE
SUMMARY:Valley Adult Daycare Services-Amateur Golf Tournament
DESCRIPTION:Get your team together or sign up as an Individual\, or simply come join us for dinner.\n\n\n\nValley Adult Daycare Center - Amateur Golf Tournament\n\nLunch\, Dinner\, Raffle\, Team Prizes\, Tee Prizes and Hole Contests!
X-ALT-DESC;FMTTYPE=text/html:Get your team together or sign up as an Individual\, or simply come join us for dinner.<br />\n<br />\nValley Adult Daycare Center - Amateur Golf Tournament<br />\nLunch\, Dinner\, Raffle\, Team Prizes\, Tee Prizes and Hole Contests!<br />\n&nbsp\;
LOCATION:River Island County Club
UID:e.2225.1464
SEQUENCE:3
DTSTAMP:20260422T113631Z
URL:https://business.portervillechamber.org/events/details/valley-adult-daycare-services-amateur-golf-tournament-1464
END:VEVENT

END:VCALENDAR
