BEGIN:VCALENDAR
VERSION:2.0
PRODID:-//ChamberMaster//Event Calendar 2.0//EN
METHOD:PUBLISH
X-PUBLISHED-TTL:P3D
REFRESH-INTERVAL:P3D
CALSCALE:GREGORIAN
BEGIN:VEVENT
DTSTART:20171111T153000Z
DTEND:20171111T180000Z
X-MICROSOFT-CDO-ALLDAYEVENT:FALSE
SUMMARY:Veterans Day Run
DESCRIPTION:Porterville Parks & Leisure invites you to join the annual Veterans Day Run.  It takes place right before the Veterans Day Parade in Downtown Porterville.  The event features a 5K run\, 10K run\, 5K walk and free kids fun run.  Awards will be given to the top three finishers in every division.  Pre-registered participants are guaranteed long sleeved commemorative sport shirt.
X-ALT-DESC;FMTTYPE=text/html:Porterville Parks &amp\; Leisure invites you to join the annual Veterans Day Run.&nbsp\; It takes place right before the Veterans Day Parade in Downtown Porterville.&nbsp\; The event features a 5K run\, 10K run\, 5K walk and free kids fun run.&nbsp\; Awards will be given to the top three finishers in every division.&nbsp\; Pre-registered participants are guaranteed long sleeved commemorative sport shirt.
LOCATION:Route in Downtown Porterville
UID:e.2225.1257
SEQUENCE:3
DTSTAMP:20260422T195809Z
URL:https://business.portervillechamber.org/events/details/veterans-day-run-1257
END:VEVENT

END:VCALENDAR
