BEGIN:VCALENDAR
VERSION:2.0
PRODID:-//ChamberMaster//Event Calendar 2.0//EN
METHOD:PUBLISH
X-PUBLISHED-TTL:P3D
REFRESH-INTERVAL:P3D
CALSCALE:GREGORIAN
BEGIN:VEVENT
DTSTART:20181112T153000Z
DTEND:20181112T200000Z
X-MICROSOFT-CDO-ALLDAYEVENT:FALSE
SUMMARY:Veterans Day Run & Walk
DESCRIPTION:Runners and walkers of all ages from around the Valley join in this scenic route to compete for top honors.  The race takes place annually on the Veterans Day holiday\, prior to the Veterans Day Parade. Awards are given to the top three finishers in every division and each pre-registered participant is guaranteed a long sleeved commemorative t-shirt.  Plus\, free childcare offered during the race.
X-ALT-DESC;FMTTYPE=text/html:<span class="border">Runners and walkers of all ages from around the Valley join </span><span class="border">in this scenic route to compete for top honors.&nbsp\; The race takes place annually on the Veterans Day holiday\, prior to the Veterans Day Parade.&nbsp\;</span><span class="border">Awards are given to the top three finishers in every division and each pre-registered participant is guaranteed a long sleeved commemorative t-shirt.</span>&nbsp\; Plus\, <a href="http://www.ci.porterville.ca.us/depts/ParksandLeisure/vetsrunchild.cfm">free childcare</a> offered during the race.
LOCATION:Downtown Porterville
UID:e.2225.1832
SEQUENCE:3
DTSTAMP:20260421T230342Z
URL:https://business.portervillechamber.org/events/details/veterans-day-run-walk-1832
END:VEVENT

END:VCALENDAR
