BEGIN:VCALENDAR
VERSION:2.0
PRODID:-//ChamberMaster//Event Calendar 2.0//EN
METHOD:PUBLISH
X-PUBLISHED-TTL:P3D
REFRESH-INTERVAL:P3D
CALSCALE:GREGORIAN
BEGIN:VEVENT
DTSTART:20181025T160000Z
DTEND:20181025T200000Z
X-MICROSOFT-CDO-ALLDAYEVENT:FALSE
SUMMARY:Veterans Stand Down & Resource Fair
DESCRIPTION:Open to all veterans and family members
X-ALT-DESC;FMTTYPE=text/html:Open to all veterans and family members
LOCATION:Porterville Veterans Memorial Building 1900 W. Olive Ave\, Porterville CA\, 93257
UID:e.2225.1794
SEQUENCE:3
DTSTAMP:20260422T020839Z
URL:https://business.portervillechamber.org/events/details/veterans-stand-down-resource-fair-1794
END:VEVENT

END:VCALENDAR
