BEGIN:VCALENDAR
VERSION:2.0
PRODID:-//ChamberMaster//Event Calendar 2.0//EN
METHOD:PUBLISH
X-PUBLISHED-TTL:P3D
REFRESH-INTERVAL:P3D
CALSCALE:GREGORIAN
BEGIN:VEVENT
DTSTART:20190424T010000Z
DTEND:20190424T020000Z
X-MICROSOFT-CDO-ALLDAYEVENT:FALSE
SUMMARY:Visalia School of Business Sample-a-Course by Fresno Pacific University
DESCRIPTION:Description\n\n\n\n\nGet a taste of Fresno Pacific University's Master's in Business Administration and Master's in Leadership and Organizational Studies. Join us for dinner and a mini-lecture. Meet faculty & admission representatives and ask questions to gain real insight into classes offered at FPU's Visalia Campus. Come and see how a business degree can transform your life and advance your career!\n\nYou'll receive a $90 application fee waiver for attending!
X-ALT-DESC;FMTTYPE=text/html:<h3 class="label-primary" style="margin: 0px\; padding: 0px\; color: rgb(30\, 10\, 60)\; line-height: 1.4rem\; font-size: 1rem\; text-transform: capitalize\;">Description</h3>\n\n<div class="has-user-generated-content js-d-read-more read-more js-read-more read-more--medium-down read-more--expanded" data-xd-wired="read-more" dorsal-guid="83315b81-cd56-9b25-4c42-b539e97c6aac" style="margin: 0px\; padding: 0px\;">\n<div class="js-xd-read-more-toggle-view read-more__toggle-view" style="margin: 0px\; padding: 0px\; overflow: hidden\; position: relative\; overflow-wrap: break-word\;">\n<div class="js-xd-read-more-contents l-mar-top-3" data-automation="listing-event-description" style="margin: 15px 0px 0px\; padding: 0px\;">\n<p style="margin: 0px\; padding: 0px\; color: rgb(111\, 114\, 135)\; font-family: &quot\;Neue Plak&quot\;\, -apple-system\, BlinkMacSystemFont\, Roboto\, &quot\;Helvetica Neue&quot\;\, Helvetica\, Tahoma\, Arial\, sans-serif\; font-size: 15px\; letter-spacing: 0.5px\;"><span style="font-family:arial\;"><span style="font-size:11px\;">Get a taste of Fresno Pacific University&#39\;s Master&#39\;s in Business Administration and Master&#39\;s in Leadership and Organizational Studies. Join us for dinner and a mini-lecture. Meet faculty &amp\; admission representatives and ask questions to gain real insight into classes offered at FPU&#39\;s Visalia Campus. Come and see how a business degree can transform your life and advance your career!</span></span></p>\n\n<p style="margin: 0px\; padding: 10px 0px 0px\; color: rgb(111\, 114\, 135)\; font-family: &quot\;Neue Plak&quot\;\, -apple-system\, BlinkMacSystemFont\, Roboto\, &quot\;Helvetica Neue&quot\;\, Helvetica\, Tahoma\, Arial\, sans-serif\; font-size: 15px\; letter-spacing: 0.5px\;"><span style="font-family:arial\;"><span style="font-size:11px\;">You&#39\;ll receive a $90 application fee waiver for attending!</span></span></p>\n\n<p style="margin: 0px\; padding: 10px 0px 0px\; color: rgb(111\, 114\, 135)\; font-family: &quot\;Neue Plak&quot\;\, -apple-system\, BlinkMacSystemFont\, Roboto\, &quot\;Helvetica Neue&quot\;\, Helvetica\, Tahoma\, Arial\, sans-serif\; font-size: 15px\; letter-spacing: 0.5px\;">&nbsp\;</p>\n</div>\n</div>\n</div>\n
LOCATION:Fresno Pacific University Visalia Campus 245 Plaza Drive Visalia\, CA 93291
UID:e.2225.1895
SEQUENCE:3
DTSTAMP:20260421T141218Z
URL:https://business.portervillechamber.org/events/details/visalia-school-of-business-sample-a-course-by-fresno-pacific-university-1895
END:VEVENT

END:VCALENDAR
