BEGIN:VCALENDAR
VERSION:2.0
PRODID:-//ChamberMaster//Event Calendar 2.0//EN
METHOD:PUBLISH
X-PUBLISHED-TTL:P3D
REFRESH-INTERVAL:P3D
CALSCALE:GREGORIAN
BEGIN:VEVENT
DTSTART:20181109T160000Z
DTEND:20181109T180000Z
X-MICROSOFT-CDO-ALLDAYEVENT:FALSE
SUMMARY:Wal-Mart Re - Opening
DESCRIPTION:
X-ALT-DESC;FMTTYPE=text/html:
LOCATION:1250 West Henderson Ave.
UID:e.2225.1830
SEQUENCE:3
DTSTAMP:20260421T230343Z
URL:https://business.portervillechamber.org/events/details/wal-mart-re-opening-1830
END:VEVENT

END:VCALENDAR
