BEGIN:VCALENDAR
VERSION:2.0
PRODID:-//ChamberMaster//Event Calendar 2.0//EN
METHOD:PUBLISH
X-PUBLISHED-TTL:P3D
REFRESH-INTERVAL:P3D
CALSCALE:GREGORIAN
BEGIN:VEVENT
DTSTART:20170930T150000Z
DTEND:20170930T190000Z
X-MICROSOFT-CDO-ALLDAYEVENT:FALSE
SUMMARY:Walk with NAMI Tulare County
DESCRIPTION:Walk with NAMI Tulare County-National Alliance on Mental Illness\n\nFor more information call 559-732-NAMI (6264) \n\nYou may register using Eventrbite
X-ALT-DESC;FMTTYPE=text/html:Walk with NAMI Tulare County-National Alliance on Mental Illness<br />\nFor more information call 559-732-NAMI (6264)&nbsp\;<br />\nYou may register using Eventrbite
LOCATION:Del Lago Park\, Tulare CA
UID:e.2225.1236
SEQUENCE:3
DTSTAMP:20260422T233153Z
URL:https://business.portervillechamber.org/events/details/walk-with-nami-tulare-county-1236
END:VEVENT

END:VCALENDAR
