BEGIN:VCALENDAR
VERSION:2.0
PRODID:-//ChamberMaster//Event Calendar 2.0//EN
METHOD:PUBLISH
X-PUBLISHED-TTL:P3D
REFRESH-INTERVAL:P3D
CALSCALE:GREGORIAN
BEGIN:VEVENT
DTSTART:20190928T150000Z
DTEND:20190928T190000Z
X-MICROSOFT-CDO-ALLDAYEVENT:FALSE
SUMMARY:Walk with NAMI Tulare County
DESCRIPTION:Walk with NAMI Tulare County is an annual event held in September of each year. This Walk is our key event for mental health awareness\, and it is our premier fundraising campaign. The Walk will be held in De Lago Park in Tulare\, CA\, which is 6 miles south of Visalia\, CA.\n\nThe proceeds from the 2019 Walk\, including money raised through corporate sponsorship\, will be used by NAMI Tulare County to:\n\n	Provide information and service referrals to persons with serious brain disorders and their families\n	Advocate for nondiscriminatory and equitable federal\, state\, and private sector policies\n	Advocate for improved opportunities for housing\, rehabilitation\, and meaningful jobs for persons living with mental illness\n	Support public education programs designed to help eliminate severe disability caused by serious mental illness
X-ALT-DESC;FMTTYPE=text/html:Walk with NAMI Tulare County is an annual event held in September of each year. This Walk is our key event for mental health awareness\, and it is our premier fundraising campaign. The Walk will be held in De Lago Park in Tulare\, CA\, which is 6 miles south of Visalia\, CA.<br />\nThe proceeds from the 2019 Walk\, including money raised through corporate sponsorship\, will be used by NAMI Tulare County to:\n<ul>\n	<li style="padding:0px\;">Provide information and service referrals to persons with serious brain disorders and their families</li>\n	<li style="padding:5px 0px 0px\;">Advocate for nondiscriminatory and equitable federal\, state\, and private sector policies</li>\n	<li style="padding:5px 0px 0px\;">Advocate for improved opportunities for housing\, rehabilitation\, and meaningful jobs for persons living with mental illness</li>\n	<li style="padding:5px 0px 0px\;">Support public education programs designed to help eliminate severe disability caused by serious mental illness</li>\n</ul>\n
LOCATION:Del Lago Park\, Tulare\, CA 93274
UID:e.2225.2004
SEQUENCE:3
DTSTAMP:20260421T054247Z
URL:https://business.portervillechamber.org/events/details/walk-with-nami-tulare-county-2004
END:VEVENT

END:VCALENDAR
