BEGIN:VCALENDAR
VERSION:2.0
PRODID:-//ChamberMaster//Event Calendar 2.0//EN
METHOD:PUBLISH
X-PUBLISHED-TTL:P3D
REFRESH-INTERVAL:P3D
CALSCALE:GREGORIAN
BEGIN:VEVENT
DTSTART:20191011T003000Z
DTEND:20191011T040000Z
X-MICROSOFT-CDO-ALLDAYEVENT:FALSE
SUMMARY:Wine & Shop
DESCRIPTION:Soroptimist International of Tulare and Tulare Outlets presents...\n\n4th Annual Wine & Shop\n\nClock Tower at Tulare Outlets\n\nWine Tasting - Food - Music - Silent Auction - Drawings & Gifts\n\nProceeds to benefit Susan G Komen Foundation (National) and Sierra View Medical Center's Roger S. Cancer Treatment Center.\n\n\n\nPlease Wear Pink to help recognize breast cancer awareness.\n\nReceive 25% Off Coupon on day of event for participating stores during month of October.\n\nMust be present on day of event to win drawings and gifts.
X-ALT-DESC;FMTTYPE=text/html:<p>Soroptimist International of Tulare and Tulare Outlets presents...<br />\n4th Annual Wine &amp\; Shop<br />\nClock Tower at Tulare Outlets<br />\nWine Tasting - Food - Music - Silent Auction - Drawings &amp\; Gifts<br />\nProceeds to benefit Susan G Komen Foundation (National) and Sierra View Medical Center&#39\;s Roger S. Cancer Treatment Center.<br />\n<br />\nPlease Wear Pink to help recognize breast cancer awareness.<br />\nReceive 25% Off Coupon on day of event for participating stores during month of October.<br />\nMust be present on day of event to win drawings and gifts.</p>\n
LOCATION:Clock Tower at Tulare Outlets 1407 Retherford St Tulare\, CA 93274
UID:e.2225.2049
SEQUENCE:3
DTSTAMP:20260421T034922Z
URL:https://business.portervillechamber.org/events/details/wine-shop-2049
END:VEVENT

END:VCALENDAR
