BEGIN:VCALENDAR
VERSION:2.0
PRODID:-//ChamberMaster//Event Calendar 2.0//EN
METHOD:PUBLISH
X-PUBLISHED-TTL:P3D
REFRESH-INTERVAL:P3D
CALSCALE:GREGORIAN
BEGIN:VEVENT
DTSTART:20180310T173000Z
DTEND:20180310T193000Z
X-MICROSOFT-CDO-ALLDAYEVENT:FALSE
SUMMARY:Women's History Month - AAUW Annual Trek Brunch
DESCRIPTION:Celebrating Women's History Month at the Women's Club
X-ALT-DESC;FMTTYPE=text/html:Celebrating Women&#39\;s History Month at the Women&#39\;s Club<br />\n&nbsp\;
LOCATION:265 North E Street Porterville CA 93257
UID:e.2225.1437
SEQUENCE:3
DTSTAMP:20260422T132911Z
URL:https://business.portervillechamber.org/events/details/women-s-history-month-aauw-annual-trek-brunch-1437
END:VEVENT

END:VCALENDAR
