BEGIN:VCALENDAR
VERSION:2.0
PRODID:-//ChamberMaster//Event Calendar 2.0//EN
METHOD:PUBLISH
X-PUBLISHED-TTL:P3D
REFRESH-INTERVAL:P3D
CALSCALE:GREGORIAN
BEGIN:VEVENT
DTSTART:20180519T173000Z
DTEND:20180519T190000Z
X-MICROSOFT-CDO-ALLDAYEVENT:FALSE
SUMMARY:Women's Spring Luncheon - First Southern Baptist Church
DESCRIPTION:Free women's lunch at the First Southern Baptist Church\n\nCome join us for a free lunch and listen to our Special Speaker: Sandra Dodd
X-ALT-DESC;FMTTYPE=text/html:Free women&#39\;s lunch at the First Southern Baptist Church<br />\nCome join us for a free lunch and listen to our Special Speaker: Sandra Dodd
LOCATION:1647 West Henderson
UID:e.2225.1490
SEQUENCE:3
DTSTAMP:20260422T092623Z
URL:https://business.portervillechamber.org/events/details/women-s-spring-luncheon-first-southern-baptist-church-1490
END:VEVENT

END:VCALENDAR
