BEGIN:VCALENDAR
VERSION:2.0
PRODID:-//ChamberMaster//Event Calendar 2.0//EN
METHOD:PUBLISH
X-PUBLISHED-TTL:P3D
REFRESH-INTERVAL:P3D
CALSCALE:GREGORIAN
BEGIN:VEVENT
DTSTART:20191027T030000Z
DTEND:20191027T065500Z
X-MICROSOFT-CDO-ALLDAYEVENT:FALSE
SUMMARY:Zalud House Museum Paranormal Tours
DESCRIPTION:
X-ALT-DESC;FMTTYPE=text/html:
LOCATION:Zalud House Museum 393 N. Hockett St. Porterville\, CA 93257
UID:e.2225.2074
SEQUENCE:3
DTSTAMP:20260421T035242Z
URL:https://business.portervillechamber.org/events/details/zalud-house-museum-paranormal-tours-2074
END:VEVENT

END:VCALENDAR
