BEGIN:VCALENDAR
VERSION:2.0
PRODID:-//ChamberMaster//Event Calendar 2.0//EN
METHOD:PUBLISH
X-PUBLISHED-TTL:P3D
REFRESH-INTERVAL:P3D
CALSCALE:GREGORIAN
BEGIN:VEVENT
DTSTART:20181013T140000Z
DTEND:20181013T220000Z
X-MICROSOFT-CDO-ALLDAYEVENT:FALSE
SUMMARY:Zalud House Museum Pioneer Days & Rib Cook-Off
DESCRIPTION:The Zalud House Museum Pioneer Days & Rib Cook - Off began in 2012 as a fundraiser for the Zalud House Museum.
X-ALT-DESC;FMTTYPE=text/html:The Zalud House Museum Pioneer Days &amp\; Rib Cook - Off began in 2012 as a fundraiser for the Zalud House Museum.
LOCATION:Downtown Porterville
UID:e.2225.1797
SEQUENCE:3
DTSTAMP:20260422T003646Z
URL:https://business.portervillechamber.org/events/details/zalud-house-museum-pioneer-days-rib-cook-off-1797
END:VEVENT

END:VCALENDAR
